BEGIN:VCALENDAR
VERSION:2.0
PRODID:-//Tucson Comedy - ECPv6.15.20//NONSGML v1.0//EN
CALSCALE:GREGORIAN
METHOD:PUBLISH
X-WR-CALNAME:Tucson Comedy
X-ORIGINAL-URL:https://tucson-comedy.com
X-WR-CALDESC:Events for Tucson Comedy
REFRESH-INTERVAL;VALUE=DURATION:PT1H
X-Robots-Tag:noindex
X-PUBLISHED-TTL:PT1H
BEGIN:VTIMEZONE
TZID:America/Phoenix
BEGIN:STANDARD
TZOFFSETFROM:-0700
TZOFFSETTO:-0700
TZNAME:MST
DTSTART:20230101T000000
END:STANDARD
END:VTIMEZONE
BEGIN:VEVENT
DTSTART;TZID=America/Phoenix:20241026T200000
DTEND;TZID=America/Phoenix:20241026T220000
DTSTAMP:20260425T041939
CREATED:20240920T145243Z
LAST-MODIFIED:20240920T145243Z
UID:996-1729972800-1729980000@tucson-comedy.com
SUMMARY:Battle at the Roast Room X
DESCRIPTION:Tucson’s Premier Roast Battle is back\, and the heat’s on!  Will one of the city’s funniest comedians dethrone current champion Drake Belt or will he roast his way to victory again? Find out this October!\n Saturday | October 26th The Rock 7:30 DOOR | 8:00 SHOW\nJUDGES * Collin Chomiak* Ashloca* Andrea Salazar* Tony Bruhn\nCONTESTANTSManny Lugo\, Drake Belt\, Tyler B\, Jennifer Thomas\, Jon Jon\, Jascha Gaarder\, Connor Hanna\, Jordan Cheyne\, Kevin Maloney\, Anthony Jenkins\, Jennifer Churchill\, Tamale\, Dani NiCro\, Cory Lytle\, Kathy Hedrick\, Brandon Field\nRound Recaps by Adrian Ochoa and Arron PetersonHosted by Rich Gary\n $10 PRESALE | $15 AT THE DOOR \nDon’t miss the most savage comedy event in Tucson!  Secure your presale tickets now!\nThe Rock136 N Park Ave\,Tucson\, AZ 85719(520) 629-9211
URL:https://tucson-comedy.com/event/battle-at-the-roast-room-x/
LOCATION:The Rock\, 136 N Park Ave\, Tucson\, AZ\, United States
CATEGORIES:The Rock
ATTACH;FMTTYPE=image/jpeg:https://tucson-comedy.com/wp-content/uploads/2024/09/460721579_911234984359145_7865787868829066858_n.jpg
END:VEVENT
END:VCALENDAR