BEGIN:VCALENDAR
VERSION:2.0
PRODID:-//Tucson Comedy - ECPv6.15.20//NONSGML v1.0//EN
CALSCALE:GREGORIAN
METHOD:PUBLISH
X-WR-CALNAME:Tucson Comedy
X-ORIGINAL-URL:https://tucson-comedy.com
X-WR-CALDESC:Events for Tucson Comedy
REFRESH-INTERVAL;VALUE=DURATION:PT1H
X-Robots-Tag:noindex
X-PUBLISHED-TTL:PT1H
BEGIN:VTIMEZONE
TZID:America/Phoenix
BEGIN:STANDARD
TZOFFSETFROM:-0700
TZOFFSETTO:-0700
TZNAME:MST
DTSTART:20230101T000000
END:STANDARD
END:VTIMEZONE
BEGIN:VEVENT
DTSTART;TZID=America/Phoenix:20241117T200000
DTEND;TZID=America/Phoenix:20241117T213000
DTSTAMP:20260421T230212
CREATED:20241107T025238Z
LAST-MODIFIED:20241107T025253Z
UID:1043-1731873600-1731879000@tucson-comedy.com
SUMMARY:Ali Musa @ The Mint
DESCRIPTION:Comedian and Tucson favorite Ali Musa is returning to The Mint for one night only Friday Nov 29th! \nAli Musa is an Arab American comedian renowned for his uproarious and relatable comedic style. With a knack for silly and observational humor\, he effortlessly weaves hilarious tales about his life\, captivating audiences with uproarious anecdotes that range from everyday occurrences to the quirks of his cultural background. Ali’s comedic genius shines as he artfully crafts jokes about his home life and his witty remarks about his Libyan father\, leaving audiences in stitches. \nDon’t miss Ali Musa live at The Mint Nov 29th @ 8pm! Cheap drinks and great atmosphere. This going to be an insanely fun show!
URL:https://tucson-comedy.com/event/ali-musa-the-mint-2/
LOCATION:The Mint\, 3540 E Grant Rd\, Tucson\, AZ\, 85716\, US
CATEGORIES:The Mint
ATTACH;FMTTYPE=image/jpeg:https://tucson-comedy.com/wp-content/uploads/2024/11/440336142_337916079300934_9197493885751221379_n.jpg
END:VEVENT
BEGIN:VEVENT
DTSTART;TZID=America/Phoenix:20241029T200000
DTEND;TZID=America/Phoenix:20241029T220000
DTSTAMP:20260421T230212
CREATED:20241014T112221Z
LAST-MODIFIED:20241014T112221Z
UID:1027-1730232000-1730239200@tucson-comedy.com
SUMMARY:Funniest Person on Grant Rd. @ The Mint
DESCRIPTION:Welcome to the 1st Annual Funniest Person on Grant Rd. the one comedy competition that should probably not exist… \nGet ready for the fight to the bottom. Comedians compete for different categories (i.e funniest set\, most authetic bomb\, most creative set). It’s a comedy competition that doesn’t take itself too seriously. We’re here to have fun\, if the winner uses this in their credits that will be sad for them. \nComedians can submit for free and the event is completely free. \nCash prizes\, ticket give aways and more! \n“Win or loose. You can’t win” \nShow starts at 8pm \nSubmissions will stay open until all slots are filled. \nComedinas can submit today at: https://forms.gle/pfvwUXTaCCS9sTDa9 \nDon’t miss the chance to witness the ridiculous insanity @ The Funniest Person on Grant Rd. comedy competition.
URL:https://tucson-comedy.com/event/funniest-person-on-grant-rd-the-mint/
LOCATION:The Mint\, 3540 E Grant Rd\, Tucson\, AZ\, 85716\, US
CATEGORIES:The Mint
ATTACH;FMTTYPE=image/png:https://tucson-comedy.com/wp-content/uploads/2024/10/banner-1.png
END:VEVENT
BEGIN:VEVENT
DTSTART;TZID=America/Phoenix:20240720T200000
DTEND;TZID=America/Phoenix:20240720T213000
DTSTAMP:20260421T230212
CREATED:20240714T192346Z
LAST-MODIFIED:20240714T192346Z
UID:927-1721505600-1721511000@tucson-comedy.com
SUMMARY:George Perez @ The Mint
DESCRIPTION:George Perez\, a rising star in comedy\, hails from Orange County\, where his knack for making people laugh emerged at just 13. \nFrom entertaining family to gracing national comedy circuits\, Perez’s humor is both bright and hilarious. Alongside his comedic talent\, he’s a skilled actor\, screenwriter\, and proud father of four. \nDescribed by Evolving Hollywood.com as “the freshest face in comedy\,” Perez infuses his routines with personal experiences\, navigating themes of street life\, fatherhood\, and shattering stereotypes. \nHis appearances on Comedy Central\, SHOWTIME\, and MTV’s Yo Momma showcase his sly wit and quick thinking\, earning him acclaim and high ratings. Keep an eye out for Perez in the upcoming comedy film “Taco Shop\,” produced by the team behind Selena. \nRain or Shine Event.\nAll Sales Final / No Refunds.
URL:https://tucson-comedy.com/event/george-perez-the-mint/
LOCATION:The Mint\, 3540 E Grant Rd\, Tucson\, AZ\, 85716\, US
CATEGORIES:The Mint
ATTACH;FMTTYPE=image/jpeg:https://tucson-comedy.com/wp-content/uploads/2024/07/450478451_122107444868391496_6867737187906456404_n.jpg
END:VEVENT
END:VCALENDAR