BEGIN:VCALENDAR
VERSION:2.0
PRODID:-//Tucson Comedy - ECPv6.15.20//NONSGML v1.0//EN
CALSCALE:GREGORIAN
METHOD:PUBLISH
X-WR-CALNAME:Tucson Comedy
X-ORIGINAL-URL:https://tucson-comedy.com
X-WR-CALDESC:Events for Tucson Comedy
REFRESH-INTERVAL;VALUE=DURATION:PT1H
X-Robots-Tag:noindex
X-PUBLISHED-TTL:PT1H
BEGIN:VTIMEZONE
TZID:America/Phoenix
BEGIN:STANDARD
TZOFFSETFROM:-0700
TZOFFSETTO:-0700
TZNAME:MST
DTSTART:20230101T000000
END:STANDARD
END:VTIMEZONE
BEGIN:VEVENT
DTSTART;TZID=America/Phoenix:20241115T200000
DTEND;TZID=America/Phoenix:20241116T170000
DTSTAMP:20260421T174610
CREATED:20241107T024718Z
LAST-MODIFIED:20241107T024817Z
UID:1038-1731700800-1731776400@tucson-comedy.com
SUMMARY:Tony Tripoli @ Laffs Comedy Cafe
DESCRIPTION:Tony Tripoli was the Executive Producer and Head Writer of E!’s hit show “FASHION POLICE”\, as well as the opening act for the legendary JOAN RIVERS for 5 years. He also wrote/produced “Joan Knows Best”\, “In Bed With Joan”\, “The Dish”\, and tons of other shows you watched in a nail salon with the sound off. Tony was a “Millionaire” on Patti Stanger’s phony matchmaking show\, so\, you should definitely ask him about THAT. Headliner at The San Diego Comedy Festival\, Big Pine Comedy Festival\, Midwest Queer Comedy Festival\, and Laughed Out Comedy Fest. He’s done standup all over the world\, and has worked with KEVIN HART\, SARAH SILVERMAN\, KATHY GRIFFIN\, MARGARET CHO\, RuPAUL\, and MISS PIGGY. His standup special\, “TONY TRIPOLI: I Have Opinions” will be available on iTunes in 2019.
URL:https://tucson-comedy.com/event/tony-tripoli-laffs-comedy-cafe/
LOCATION:Laffs Comedy Caffe\, 2900 East Broadway\, Tucson\, 85716\, United States
CATEGORIES:Laffs Comedy Caffe
ATTACH;FMTTYPE=image/jpeg:https://tucson-comedy.com/wp-content/uploads/2024/11/personal_photo-166-1000x600-1.jpg
END:VEVENT
BEGIN:VEVENT
DTSTART;TZID=America/Phoenix:20241108T200000
DTEND;TZID=America/Phoenix:20241109T220000
DTSTAMP:20260421T174610
CREATED:20241107T024524Z
LAST-MODIFIED:20241107T024524Z
UID:1036-1731096000-1731189600@tucson-comedy.com
SUMMARY:Shawn Banks @ Laffs Comedy Caffe
DESCRIPTION:Shawn Banks was born in Alton\, IL\, a small suburb just 20-minutes from St. Louis\, Missouri a rocks throw across the Mississippi River. Known for witty observations and dead-on impersonations of many\, comedian Shawn Banks has been exploding in comedy clubs and theaters across the country. Shawn’s most recognizable asset when he takes the stage is his presence. At 6’3; 300+ pounds\, Shawn is built like a Defensive Tackle\, you can definitely tell that the ELEPHANT IS IN THE ROOM. Shawn’s brand of comedy can be explained as “Happy-Sarcastic” with stories and slanted point of views on everyday life. Shawn has taken his Family-Fun humor and auditioned and landed stand-up spots on the TOM JOYNER SKY SHOW at the WALT-DISNEY Milk-House in front of 4000+ people. The show is also heard by over 10-million listeners across the country daily. Shawn was also a Finalist for COMEDY CENTRAL’S South Beach Comedy Festival & Open Mic Fight. Shawn also won $1000 and a first place bid in NESTLE-PURINA’S Pet Comedy Challenge and competed and WON 2nd place overall and $5000 CASH in St. Louis\, MO. In 2009 Shawn was a semifinalist on NBC hit series “America’s Got Talent” and was also seen on the 2nd Season of “Bill Bellamy’s Who’s Got Jokes” on TV One. Shawn does not stop with just comedy\, he has been seen on the Big Screen in Summit Entertainment’s “NEVER BACK DOWN”; the BIO Networks Celebrity Ghost Stories and in TV One’s Celebrity Crime Stories portraying NOTORIOUS BIG. Shawn Banks has performed with many top comics in today’s
URL:https://tucson-comedy.com/event/shawn-banks-laffs-comedy-caffe/
LOCATION:Laffs Comedy Caffe\, 2900 East Broadway\, Tucson\, 85716\, United States
CATEGORIES:Laffs Comedy Caffe
ATTACH;FMTTYPE=image/jpeg:https://tucson-comedy.com/wp-content/uploads/2024/11/672553f0c6fd29.15380402_ohpmlqkgenjfi.jpeg
END:VEVENT
BEGIN:VEVENT
DTSTART;TZID=America/Phoenix:20241025T200000
DTEND;TZID=America/Phoenix:20241025T220000
DTSTAMP:20260421T174610
CREATED:20241014T111018Z
LAST-MODIFIED:20241014T112738Z
UID:1020-1729886400-1729893600@tucson-comedy.com
SUMMARY:Jeremiah Coughlan @ Laffs
DESCRIPTION:Jeremiah Coughlan is a comedian. A comedian who physically resembles what would happen if Chris Farley ate Bob Ross. His stage presence embodies some of the same traits. He is an imperfect mix of chaos and control. In what can seem paradoxical Jeremiah carries a calm and contented demeanor in to his high energy and surprisingly athletic stage performances. Although he still hasn’t figured out how to complete a painting in 30-minutes. With his candid\, conversational brand of self-deprecating humor\, Jeremiah has become a regular performer at Clubs all over the Northwest including Helium Comedy Club. He has been featured on Audible’s comedy series “Sounds Like America”. He has performed in The Idaho Laugh Festival in Boise\, Idaho\, The SF Sketchfest in San Francisco\, California\, Crom Comedy Festival in Toronto\, Ontario\, The Big Pine Comedy Festival in Flagstaff\, Arizona\, and most recently The 10\,000 Laughs Comedy Festival in Minneapolis\, Minnesota where he was nominated as “Best of the Fest” by the festival’s organizers.
URL:https://tucson-comedy.com/event/jeremiah-coughlan-laffs/
LOCATION:Laffs Comedy Caffe\, 2900 East Broadway\, Tucson\, 85716\, United States
CATEGORIES:Laffs Comedy Caffe
ATTACH;FMTTYPE=image/png:https://tucson-comedy.com/wp-content/uploads/2024/10/657a29360fbc54.12949993_nkjqpheoflmgi.png
END:VEVENT
BEGIN:VEVENT
DTSTART;TZID=America/Phoenix:20241018T200000
DTEND;TZID=America/Phoenix:20241018T200000
DTSTAMP:20260421T174610
CREATED:20241014T110512Z
LAST-MODIFIED:20241014T110532Z
UID:1017-1729281600-1729281600@tucson-comedy.com
SUMMARY:Steven Brigs @ Laffs
DESCRIPTION:Don’t miss Steven Brigs @ Laffs Oct 18th & 19th.\n\nSteven is an LA based comedian\, writer & actor. In addition to his international touring schedule for Stand-up\, he regularly shoots sketch comedy for his YouTube channel\, which has grown exponentially in the recent years\, with videos grossing over 100k views. He has just returned from his 5th tour performing for the US troops in the Middle East and has also recently been featured on TruTV’s Laff Tracks\, Hulu’s Coming to the Stage\, Jokesters TV on the CW and is slated to appear on a new Netflix show this year. His album\, Whiskey Dick\, can be found on iTunes.
URL:https://tucson-comedy.com/event/steven-brigs-laffs/
LOCATION:Laffs Comedy Caffe\, 2900 East Broadway\, Tucson\, 85716\, United States
CATEGORIES:Laffs Comedy Caffe
ATTACH;FMTTYPE=image/jpeg:https://tucson-comedy.com/wp-content/uploads/2024/10/MV5BZjA0OWNmZjctODhjMi00N2I3LTg5N2ItZGY1NGNhNmJmNDdiXkEyXkFqcGc@._V1_FMjpg_UX1000_.jpg
END:VEVENT
BEGIN:VEVENT
DTSTART;TZID=America/Phoenix:20241011T200000
DTEND;TZID=America/Phoenix:20241012T213000
DTSTAMP:20260421T174610
CREATED:20240926T050256Z
LAST-MODIFIED:20240926T050256Z
UID:1004-1728676800-1728768600@tucson-comedy.com
SUMMARY:Alex Duong @ Laffs Comedy Caffe
DESCRIPTION:Comedian/Writer/Actor Alex Duong was born and raised in Dallas\, Texas. \nAfter his short-story was optioned by the OC-based Zenoost Media\, Alex moved to Los Angeles in the winter of 2006 to develop the feature. While penning the feature and interning at a casting office\, he was scouted by a talent agent and fell into acting. Although Alex was working\, he was not content. It was when he hit an open mic that he was reminded of his high-school years as an emcee. \nToday\, Alex continues to act\, write\, and perform all over the country.
URL:https://tucson-comedy.com/event/alex-duong-laffs-comedy-caffe/
LOCATION:Laffs Comedy Caffe\, 2900 East Broadway\, Tucson\, 85716\, United States
CATEGORIES:Laffs Comedy Caffe
ATTACH;FMTTYPE=image/jpeg:https://tucson-comedy.com/wp-content/uploads/2024/09/61b6d7dcd71517.19536217_monlikegfpqjh.jpeg
END:VEVENT
BEGIN:VEVENT
DTSTART;TZID=America/Phoenix:20241004T200000
DTEND;TZID=America/Phoenix:20241005T213000
DTSTAMP:20260421T174610
CREATED:20240926T050027Z
LAST-MODIFIED:20240926T050027Z
UID:1002-1728072000-1728163800@tucson-comedy.com
SUMMARY:Andrew Rivers @ Laffs Comedy Caffe
DESCRIPTION:Andrew’s very personal and fun storytelling comedy\, combined with his exemplary work ethic has earned him high praise from some of the best comedians in the business. \nAndrew is a featured writer\, actor and comedian on the TV show “UpLate NW.” Andrew has been featured on NBC\, FOX\, and the Bob & Tom Radio Show and is a regular opening act for Christopher Titus.
URL:https://tucson-comedy.com/event/andrew-rivers-laffs-comedy-caffe/
LOCATION:Laffs Comedy Caffe\, 2900 East Broadway\, Tucson\, 85716\, United States
CATEGORIES:Laffs Comedy Caffe
ATTACH;FMTTYPE=image/jpeg:https://tucson-comedy.com/wp-content/uploads/2024/09/andrewrivers.jpeg
END:VEVENT
BEGIN:VEVENT
DTSTART;TZID=America/Phoenix:20240927T200000
DTEND;TZID=America/Phoenix:20240928T213000
DTSTAMP:20260421T174610
CREATED:20240926T045853Z
LAST-MODIFIED:20240926T045853Z
UID:1000-1727467200-1727559000@tucson-comedy.com
SUMMARY:Chris Martin @ Laffs Comedy Caffe
DESCRIPTION:From Chris “You might have seen me do stand up comedy on tour in the UK\, USA Australia or New Zealand or on telly. My 2017 Edinburgh festival show “The One and Only Chris Martin” just got nominated for “Best Comedy Show” at the Amused Moose Comedy Awards. I’ve recently been on Live at the Comedy Store (Comedy Central)\, Alan Davies: As Yet Untitled\, and done some acting in ITV’s Horrible Science. \nI do shows at most venues\, so you can look on here to see when I’m doing shows near where you live. I also do two really fun podcasts with my friend Carl and one with our weird Australian Uncle Trevor which you can listen to anywhere in the world (probably excluding N Korea). “
URL:https://tucson-comedy.com/event/chris-martin-laffs-comedy-caffe/
LOCATION:Laffs Comedy Caffe\, 2900 East Broadway\, Tucson\, 85716\, United States
CATEGORIES:Laffs Comedy Caffe
ATTACH;FMTTYPE=image/jpeg:https://tucson-comedy.com/wp-content/uploads/2024/09/606625b8655e99.12481678_lofjhpikmgeqn-scaled.jpeg
END:VEVENT
BEGIN:VEVENT
DTSTART;TZID=America/Phoenix:20240802T200000
DTEND;TZID=America/Phoenix:20240803T213000
DTSTAMP:20260421T174610
CREATED:20240714T194329Z
LAST-MODIFIED:20240715T004235Z
UID:935-1722628800-1722720600@tucson-comedy.com
SUMMARY:Caleb Synan @ Laffs Comedy Caffe
DESCRIPTION:Caleb Synan is one of the hottest young comics in the country. (Funny AND good looking!) His unique background as a preacher’s kid from a small southern town gives him the ability to relate to any and every crowd — even though he’s a big old millennial who lives in LA. Want proof? He’s he’s performed on CONAN (twice!)\, Last Comic Standing (once!)\, and his first Comedy Central special “30” in 2022 (You can watch it on YouTube!) He’s also entertained our troops in South Korea and Japan. What a guy! It’s no wonder he won the title of “Wittiest” in Franklin County High School’s 2009 Yearbook. He even wrote this bio himself. And he’ll have a margarita with you if you play your cards right.
URL:https://tucson-comedy.com/event/caleb-synan-laffs-comedy-caffe/
LOCATION:Laffs Comedy Caffe\, 2900 East Broadway\, Tucson\, 85716\, United States
CATEGORIES:Laffs Comedy Caffe
ATTACH;FMTTYPE=image/jpeg:https://tucson-comedy.com/wp-content/uploads/2024/07/630ee984c0f693.18114351_nhqkgepmjiofl.jpg
END:VEVENT
BEGIN:VEVENT
DTSTART;TZID=America/Phoenix:20240726T200000
DTEND;TZID=America/Phoenix:20240727T213000
DTSTAMP:20260421T174610
CREATED:20240714T194135Z
LAST-MODIFIED:20240714T194146Z
UID:933-1722024000-1722115800@tucson-comedy.com
SUMMARY:Vince Morris @ Laffs Comedy Caffe
DESCRIPTION:Originally from Columbus Ohio\, Vince Morris is one of the hottest up and coming comedy veterans on the scene today. No stranger to television\, Vince has appeared on B.E.T.’s Comic View\, H.B.O’s Def Comedy Jam\, CBS’ Late Late Show\, Comics Unleashed W/Byron Allen\, and his own Half Hour Comedy Central Special just to name a few. In addition to headlining comedy clubs\, theatres and his television appearances\, Vince Morris has been featured at the very prestigious Montreal Comedy Festival\, and the H.B.O. Aspen Comedy Festival. Vince has also been honored to perform overseas for the US troops in such places as Baghdad\, Kuwait\, and Afghanistan. Always speaking from his heart\, Vince is dangerously funny. With his diverse style\, and original material\, Vince appeals to audiences from all walks of life. Vince’s unique ability to “switch gears\,” allows his comedy to go from dirty to squeaky clean\, from personal to improvisational\, from thought provoking to just down right silly. Predictably unpredictable\, Vince is guaranteed never to have the same show twice
URL:https://tucson-comedy.com/event/vince-morris-laffs-comedy-caffe/
LOCATION:Laffs Comedy Caffe\, 2900 East Broadway\, Tucson\, 85716\, United States
CATEGORIES:Laffs Comedy Caffe
ATTACH;FMTTYPE=image/jpeg:https://tucson-comedy.com/wp-content/uploads/2024/07/60917af15a22e0.84029321_ionmkgplehfqj.jpg
END:VEVENT
END:VCALENDAR