BEGIN:VCALENDAR
VERSION:2.0
PRODID:-//Tucson Comedy - ECPv6.15.20//NONSGML v1.0//EN
CALSCALE:GREGORIAN
METHOD:PUBLISH
X-WR-CALNAME:Tucson Comedy
X-ORIGINAL-URL:https://tucson-comedy.com
X-WR-CALDESC:Events for Tucson Comedy
REFRESH-INTERVAL;VALUE=DURATION:PT1H
X-Robots-Tag:noindex
X-PUBLISHED-TTL:PT1H
BEGIN:VTIMEZONE
TZID:America/Phoenix
BEGIN:STANDARD
TZOFFSETFROM:-0700
TZOFFSETTO:-0700
TZNAME:MST
DTSTART:20230101T000000
END:STANDARD
END:VTIMEZONE
BEGIN:VEVENT
DTSTART;TZID=America/Phoenix:20241129T200000
DTEND;TZID=America/Phoenix:20241129T200000
DTSTAMP:20260421T224637
CREATED:20241111T013209Z
LAST-MODIFIED:20241111T013814Z
UID:1050-1732910400-1732910400@tucson-comedy.com
SUMMARY:Don't Tell Comedy Tucson @ Balboa Heights
DESCRIPTION:📍 Secret Locations. \nShhh…it’s a surprise. As you can see\, we only advertise the general area or neighborhood for each show. The precise location and other important show details will be sent to you at 8:00 AM the day of the show. If you don’t see it in your inbox you can find the info on show day right here. \n🤫 Secret Comedians. \nNo spoilers! All comedians remain unknown until the moment they take the stage. But don’t fret\, we carefully curate lineups of 4-7 different comics to create a hilarious and diverse show. The best part is—you never know who might show up! \nYou might discover your next favorite underground comedian or see a fan favorite. We specialize in introducing audiences to the best-emerging talent from cities around the world through a mix of the best local and nationally touring comedians. \n🌟 Unique Live Experience. \nHonestly\, we’re over the whole debt-inducing two-drink minimum thing. We’re dedicated to providing you with a unique and fun live comedy experience—one which doesn’t require you to take out a second mortgage. We thrive on good vibes and welcome you to be a part of the DTC community. \n📍 This show will be at an indoor location. \n🍻 Outside snacks allowed. \n🪑 This show will have chairs provided. \n♿︎ This show is wheelchair accessible. \n🎤 21+ show. \n  \n 
URL:https://tucson-comedy.com/event/dont-tell-comedy-tucson-balboa-heights/
CATEGORIES:Don't Tell
END:VEVENT
BEGIN:VEVENT
DTSTART;TZID=America/Phoenix:20241026T193000
DTEND;TZID=America/Phoenix:20241026T193000
DTSTAMP:20260421T224637
CREATED:20241014T110216Z
LAST-MODIFIED:20241014T110822Z
UID:1014-1729971000-1729971000@tucson-comedy.com
SUMMARY:Don't Tell Tucson - 4th Ave Location
DESCRIPTION:Secret location comedian show put on by Don’t Tell Tucson’s Chapter \nShow Details\n\n📍 This show will be at an indoor location. \n🍻 Drinks will be available for purchase. Food is available for purchase. \n🪑 This show will have chairs provided. \n♿︎ This show is wheelchair accessible. \n🎤 21+ show.
URL:https://tucson-comedy.com/event/dont-tell-tucson-4th-ave-location/
CATEGORIES:Don't Tell
ATTACH;FMTTYPE=image/avif:https://tucson-comedy.com/wp-content/uploads/2024/10/DSCF6993_emw50d_fOGdTwg.avif
END:VEVENT
END:VCALENDAR