BEGIN:VCALENDAR
VERSION:2.0
PRODID:-//Tucson Comedy - ECPv6.15.20//NONSGML v1.0//EN
CALSCALE:GREGORIAN
METHOD:PUBLISH
X-WR-CALNAME:Tucson Comedy
X-ORIGINAL-URL:https://tucson-comedy.com
X-WR-CALDESC:Events for Tucson Comedy
REFRESH-INTERVAL;VALUE=DURATION:PT1H
X-Robots-Tag:noindex
X-PUBLISHED-TTL:PT1H
BEGIN:VTIMEZONE
TZID:America/Phoenix
BEGIN:STANDARD
TZOFFSETFROM:-0700
TZOFFSETTO:-0700
TZNAME:MST
DTSTART:20230101T000000
END:STANDARD
END:VTIMEZONE
BEGIN:VEVENT
DTSTART;TZID=America/Phoenix:20240209T200000
DTEND;TZID=America/Phoenix:20240209T213000
DTSTAMP:20260423T191758
CREATED:20240121T172610Z
LAST-MODIFIED:20240121T172631Z
UID:337-1707508800-1707514200@tucson-comedy.com
SUMMARY:David Jolly\, Ali Musa and Celia Contreras @ Chuckleheads
DESCRIPTION:Comedians David Jolly\, Celia Conteras and Ali Musa @ Chuckleheads\n\n\n \n\n\nJoin us for an incredible night of comedy at the Chuckleheads in Bisbee\, AZ! David Jolly\, Celia Conteras\, and Ali Musa will be taking the stage to deliver an unforgettable performance. This in-person event is your chance to experience their talent up close and personal. So mark your calendars and come on down to Chuckleheads at 41 Brewery Ave. Bisbee\, AZ for a night of pure musical bliss!\n\n\n \n\n\nAll of which have seen on Kill Tony\n\n\n \n\n\nDavid Jolly\n\n\nThere is no on or off button for David Jolly. A fountain of funny in all situations\, Jolly’s minutes behind the mic are an extension of his round-the-clock boisterous antics. Six years into his comedy career\, he enjoys audiences that crave his presence.\n\n\n \n\n\nThe Florida native did not always have a reason to smile. Surviving the broken foster care system as a child and fighting through a coma in 2010\, Jolly harnessed his inner strength and channeled it through comedy. He took inspiration from Dave Chappelle\, and persistently crafts a set designed to connect with people of all kinds. David Jolly fan base and audience reaches all across the U.S. now with over 20K followers on Facebook and over 1 million monthly impression Jolly is ready to take his talents on the road.\n\n\n \n\n\nThanks to his tagline Hastag “#IKYFL\, which means “I Know You Fucking Lying.” Chicago\, Detroit\, Houston\, Memphis\, Dallas and of course his hometown of Orlando are amongst the top cities where David Jolly is getting a lot of attention. Appearing frequently on the number 1 live podcast “Kill Tony” and a door guy at “The Comedy Mothership”. October 23rd David was on the panel of Kill Tony which reached over a million views in 2 days and still counting.\n\n\n \n\n\nCelia Conteras\n\n\nCelia H. Contreras is an Arizona comedian known for her dark comedy and one liners. With over 6 years of experience in the industry\, Celia has won and placed in multiple comedy contests throughout the valley\, including a few roast battles. She’s even opened for some of the biggest names in comedy\, such as Tony Hinchcliffe and Roseanne Barr.\n\n\n \n\n\nCelia’s quick wit and sharp delivery have earned her a reputation as one of the best comedians in Arizona. Her dark comedy style is sure to leave you laughing until it hurts. And with multiple appearances on Kill Tony\, you know that Celia has what it takes to make it big in the comedy world.\n\n\n \n\n\nSo if you’re looking for some edgy and hilarious comedy\, look no further than Celia H. Contreras. With her quick sense of humor and sharp delivery\, she’s sure to have you laughing until it hurts!\n\n\n \n\n\nAli Musa\n\n\nAli Musa is a professional stand-up comedian with years of experience under his belt. With a quick wit and sharp tongue\, Ali can make you laugh until it hurts.\n\n\n \n\n\nWhether you’re in the mood for clean humor or something more adult like\, Ali has got you covered. He’s worked at some of the biggest comedy clubs in the southwest\, including Tempe Improv\, Stand Up Live\, and Laffs Tucson. He has also appeared on Kill Tony multiple times.\n\n\n \n\n\nBut it’s not just the big clubs that Ali has played. He’s also graced the stages of several casinos across the region. No matter where he is\, Ali delivers a hilarious show that will have you rolling on the floor in laughter.\n\n\nSo if you’re looking for a good laugh and some great comedy\, look no further than Ali Musa. With his quick sense of humor and sharp delivery\, he’s sure to have you laughing until it hurts!
URL:https://tucson-comedy.com/event/david-jolly-ali-musa-and-celia-contreras-chuckleheads/
LOCATION:Chuckleheads\, 41 Brewery Ave\, Bisbee\, AZ\, United States
CATEGORIES:Chuckleheads
ATTACH;FMTTYPE=image/png:https://tucson-comedy.com/wp-content/uploads/2024/01/chuckleheads-poster.png
END:VEVENT
END:VCALENDAR