BEGIN:VCALENDAR
VERSION:2.0
PRODID:-//Tucson Comedy - ECPv6.15.20//NONSGML v1.0//EN
CALSCALE:GREGORIAN
METHOD:PUBLISH
X-WR-CALNAME:Tucson Comedy
X-ORIGINAL-URL:https://tucson-comedy.com
X-WR-CALDESC:Events for Tucson Comedy
REFRESH-INTERVAL;VALUE=DURATION:PT1H
X-Robots-Tag:noindex
X-PUBLISHED-TTL:PT1H
BEGIN:VTIMEZONE
TZID:America/Phoenix
BEGIN:STANDARD
TZOFFSETFROM:-0700
TZOFFSETTO:-0700
TZNAME:MST
DTSTART:20220101T000000
END:STANDARD
END:VTIMEZONE
BEGIN:VEVENT
DTSTART;TZID=America/Phoenix:20231110T200000
DTEND;TZID=America/Phoenix:20231110T220000
DTSTAMP:20260424T001206
CREATED:20231027T194108Z
LAST-MODIFIED:20231027T194108Z
UID:244-1699646400-1699653600@tucson-comedy.com
SUMMARY:Reena Calm @ Chuckleheads
DESCRIPTION:Reena Calm is happy to be here!! Raised in the suburbs of Massachusetts\, and many mental health facilities in the greater Boston area. A doctor once said she would “never have a normal life\,” and that turned out to be an accurate diagnosis. \nObsessed with comedy\, Reena moved to Chicago and made a name for herself as a favorite in one of the best comedy cities in the world\, a regular at all the legendary clubs and a teacher at Second City. She quickly became one of the most respected and requested comedians in the Midwest\, and is now a nationally touring headliner. Reena is a wordsmith whose material is autobiographical\, silly\, and charmingly inappropriate\, pulling from a lifetime of questionable choices. \nSpeaking of questionable choices\, she’s one of the only women in the U.S. to ever live on the road as a full-time stand-up comedian. Traveling around the country in a converted minivan\, this pun-slinger has made audiences laugh in ALL 50 States! Full of wild tales from the road\, Reena’s debut album “CALMEDY” was #1 on the comedy charts\, and can be heard on Sirius XM. \nReena has featured at Limestone\, RiOT LA\, High Plains and so many cool festivals. She’s been a regular guest on the Doug Loves Movies podcast\, and was a Comic of The Week on The Jackie & Laurie Show. She’s opened for comedy icons like Arsenio Hall\, Maria Bamford\, Eddie Pepitone\, Laurie Kilmartin\, Doug Benson and many more. \nCheck out her book “Once A Pun A Time…Legend of a Sighs Queen” on Amazon. Reena’s been called “a one-woman punk band of a comedian” by Jeff Bailey\, “everything comedy should be” by Sam Tallent\, one of “the best independent comics in the country” by Clearwater Comedy\, and “terrific!” by the Chicago Tribune. She hopes to see you at a show in your town soon\, and would love to sleep in your finest parking lot. Follow her on Instagram to ride along on her travels @ReenaCalm #ViewnitedStates.
URL:https://tucson-comedy.com/event/reena-calm-chuckleheads/
LOCATION:Chuckleheads\, 41 Brewery Ave\, Bisbee\, AZ\, United States
CATEGORIES:Chuckleheads
ATTACH;FMTTYPE=image/png:https://tucson-comedy.com/wp-content/uploads/2023/10/reena-calms.png
END:VEVENT
BEGIN:VEVENT
DTSTART;TZID=America/Phoenix:20231117T200000
DTEND;TZID=America/Phoenix:20231117T220000
DTSTAMP:20260424T001206
CREATED:20231027T194340Z
LAST-MODIFIED:20231027T194509Z
UID:247-1700251200-1700258400@tucson-comedy.com
SUMMARY:Jon Carden @ Chuckleheads
DESCRIPTION:Comedian Jon Carden has climbed upward from the very bottom of society and has reached\, at the very least\, the middle. Comedy provided Jon an opportunity to fashion tales of his turbulent upbringing in the backwoods trailers of North Carolina into a craft that has landed him on some of the biggest stages in the country. \nIn December 2019 Jon Carden was hand-selected by Frank Caliendo to be 98.7 KUPD’s Funniest Comedian and was awarded the opportunity to open for Brian Callen\, Adam Ray\, and Frank Caliendo in front of an audience of 4\,000 people at Celebrity Theater. Jon was also a finalist for Rick Bronson’s Funniest Comedian (2018)\, and a winner of The Pacific Cannabis Comedy Cup (2016). He is a passed regular at every major club in Phoenix including Tempe Improv where he recently opened for Adam Carolla on a two-man show. \nJon Carden is consistently working towards producing the funniest content in America with the projects that he helps facilitate like The Big Pine Comedy Festival\, The 40 for 40 Comedy Festival\, and his podcast The White Trash Book Club. \n 
URL:https://tucson-comedy.com/event/jon-carden-chuckleheads/
LOCATION:Chuckleheads\, 41 Brewery Ave\, Bisbee\, AZ\, United States
CATEGORIES:Chuckleheads
ATTACH;FMTTYPE=image/png:https://tucson-comedy.com/wp-content/uploads/2023/10/Jon-Carden-Nov-17th.png
END:VEVENT
END:VCALENDAR